BEGIN:VCALENDAR
VERSION:2.0
PRODID:-//https://eruuf.org///NONSGML kigkonsult.se iCalcreator 2.10.15//
METHOD:PUBLISH
BEGIN:VEVENT
UID:20260424T183130UTC-5751kU7779@https://eruuf.org/
DTSTAMP:20260424T183130Z
DESCRIPTION: https://eruuf.org/calendar/calendar-view/event/4800-newcomer-o
 rientation.html
DTSTART:20190113T153000Z
DTEND:20190113T160000Z
LOCATION:Chapel   ()
SUMMARY:Newcomer Orientation
URL:https://eruuf.org/calendar/calendar-view/event/4800-newcomer-orientatio
 n.html
END:VEVENT
END:VCALENDAR
