BEGIN:VCALENDAR
VERSION:2.0
PRODID:-//https://eruuf.org///NONSGML kigkonsult.se iCalcreator 2.10.15//
METHOD:PUBLISH
BEGIN:VEVENT
UID:20260424T234622UTC-8415BUX2w8@https://eruuf.org/
DTSTAMP:20260424T234622Z
DESCRIPTION: https://eruuf.org/calendar/calendar-view/event/4801-newcomer-o
 rientation.html
DTSTART:20181209T153000Z
DTEND:20181209T160000Z
LOCATION:Chapel   ()
SUMMARY:Newcomer Orientation
URL:https://eruuf.org/calendar/calendar-view/event/4801-newcomer-orientatio
 n.html
END:VEVENT
END:VCALENDAR
