BEGIN:VCALENDAR
VERSION:2.0
PRODID:-//https://eruuf.org///NONSGML kigkonsult.se iCalcreator 2.10.15//
METHOD:PUBLISH
BEGIN:VEVENT
UID:20260423T182256UTC-9884zdbPew@https://eruuf.org/
DTSTAMP:20260423T182256Z
DESCRIPTION: https://eruuf.org/calendar/calendar-view/event/4803-newcomer-o
 rientation.html
DTSTART:20181014T143000Z
DTEND:20181014T150000Z
LOCATION:Chapel   ()
SUMMARY:Newcomer Orientation
URL:https://eruuf.org/calendar/calendar-view/event/4803-newcomer-orientatio
 n.html
END:VEVENT
END:VCALENDAR
