BEGIN:VCALENDAR
VERSION:2.0
PRODID:-//https://eruuf.org///NONSGML kigkonsult.se iCalcreator 2.10.15//
METHOD:PUBLISH
BEGIN:VEVENT
UID:20260421T012319UTC-01620Miu2u@https://eruuf.org/
DTSTAMP:20260421T012319Z
DESCRIPTION:K-12th Grade Sock Hop Dance Party featuring a special D.J. Happ
 ening during both services in place of regular R.E.  Youth will dance and 
 make cards for ERUUF members who are homebound. Donations of packages of n
 ew socks and new underwear in adult sizes\, or new hats and glove sets in 
 adult sizes for Urban Ministries will be collected.  If you are unable to 
 make it you can still participate. Bring your warming goodies to the RE of
 fice any time.   https://eruuf.org/calendar/calendar-view/event/483-sock-h
 op-dance-party.html
DTSTART:20161204T141500Z
DTEND:20161204T171500Z
LOCATION:Room 4/5   (4907 Garrett Rd\, Durham\, NC 27707   )
SUMMARY:Sock Hop Dance Party
URL:https://eruuf.org/calendar/calendar-view/event/483-sock-hop-dance-party
 .html
END:VEVENT
END:VCALENDAR
