BEGIN:VCALENDAR
VERSION:2.0
PRODID:-//https://eruuf.org///NONSGML kigkonsult.se iCalcreator 2.10.15//
METHOD:PUBLISH
BEGIN:VEVENT
UID:20260424T151927UTC-7578l9Xbwl@https://eruuf.org/
DTSTAMP:20260424T151927Z
DESCRIPTION:Contact Rev. Cayer\,  dcayer@eruuf.org https://eruuf.org/calend
 ar/calendar-view/event/487-stewardship-council.html
DTSTART:20161130T000000Z
DTEND:20161130T020000Z
LOCATION:Room 1 - CARE Building ()
SUMMARY:Stewardship Council
URL:https://eruuf.org/calendar/calendar-view/event/487-stewardship-council.
 html
END:VEVENT
END:VCALENDAR
