BEGIN:VCALENDAR
VERSION:2.0
PRODID:-//https://eruuf.org///NONSGML kigkonsult.se iCalcreator 2.10.15//
METHOD:PUBLISH
BEGIN:VEVENT
UID:20260424T011359UTC-1453Vo9B9g@https://eruuf.org/
DTSTAMP:20260424T011359Z
DESCRIPTION:General Assembly (GA) will take place from June 20-24 in Kansas
  City\, MO. Up to 13 lay delegates can represent ERUUF. If you are interes
 ted in attending\, either in person or as an off-site delegate\, please co
 ntact Kristi Chilton at joybird7@yahoo.com. Complete information is availa
 ble at https://www.uua.org/ga. https://eruuf.org/calendar/calendar-view/ev
 ent/4980-uua-general-assembly.html
DTSTART;VALUE=DATE:20180621
LOCATION:Kansas City\, MO (Kansas City\, MO\, USA)
SUMMARY:UUA General Assembly
URL:https://eruuf.org/calendar/calendar-view/event/4980-uua-general-assembl
 y.html
END:VEVENT
END:VCALENDAR
