BEGIN:VCALENDAR
VERSION:2.0
PRODID:-//https://eruuf.org///NONSGML kigkonsult.se iCalcreator 2.10.15//
METHOD:PUBLISH
BEGIN:VEVENT
UID:20260424T210304UTC-4304tUUX5v@https://eruuf.org/
DTSTAMP:20260424T210304Z
DESCRIPTION:The Connections Fair is when members of every program and activ
 ity at ERUUF highlight what they're doing. It's a great way to 'find yours
 elf at ERUUF' engaged with others in an activity that is interesting and f
 ulfilling. You'll be amazed at all we're doing!  This year be sure to also
  plan for our first food truck rodeo\, a selfie booth\, great music\, and 
 whole lot more! \nGuide to Connections Fair \nMap of Connections Fair (see
  PDF or image below)\n  Connections_Fair_2018_map.list.pdf\n https://eruuf
 .org/calendar/calendar-view/event/5042-connections-fair.html
DTSTART:20180909T141500Z
DTEND:20180909T170000Z
LOCATION:ERUUF Campus   (4907 Garrett Rd\, Durham\, NC 27707    )
SUMMARY:Connections Fair
URL:https://eruuf.org/calendar/calendar-view/event/5042-connections-fair.ht
 ml
END:VEVENT
END:VCALENDAR
