BEGIN:VCALENDAR
VERSION:2.0
PRODID:-//https://eruuf.org///NONSGML kigkonsult.se iCalcreator 2.10.15//
METHOD:PUBLISH
BEGIN:VEVENT
UID:20260422T213818UTC-0400vziktG@https://eruuf.org/
DTSTAMP:20260422T213818Z
DESCRIPTION:Please join us for an information meeting with Rev. Ruth Gibson
  about a Unitarian Family Pilgrimage trip in 2019. Please feel free to con
 tact Rev. Ruth with questions about the trip (regibson@uuma.org). https://
 eruuf.org/calendar/calendar-view/event/5043-transylvania-unitarian-pilgrim
 age-information-meeting.html
DTSTART:20180603T153000Z
DTEND:20180603T163000Z
LOCATION:Library - CARE Building ()
SUMMARY:Transylvania Unitarian Pilgrimage Information Meeting
URL:https://eruuf.org/calendar/calendar-view/event/5043-transylvania-unitar
 ian-pilgrimage-information-meeting.html
END:VEVENT
END:VCALENDAR
