BEGIN:VCALENDAR
VERSION:2.0
PRODID:-//https://eruuf.org///NONSGML kigkonsult.se iCalcreator 2.10.15//
METHOD:PUBLISH
BEGIN:VEVENT
UID:20260423T222123UTC-7540jaz6SJ@https://eruuf.org/
DTSTAMP:20260423T222123Z
DESCRIPTION:The Inquirers Series is offered each Sunday morning to welcome 
 and inform visitors and friends about ERUUF. Members are welcome to these 
 classes as well. You will converse with ministers\, staff\, and lay leader
 s as you learn about ERUUF’s values\, culture and ministries\, along with 
 basics about Unitarian Universalism. Eight topics are covered\, one per se
 ssion\, and then repeated throughout the year.  See Inquirers Series\nClas
 s 5: Worship & the Liturgical Year\nERUUF’s liturgical cycle and program y
 ear\; the elements of our worship services and how we celebrate holidays. 
 https://eruuf.org/calendar/calendar-view/event/5074-inquirers-class.html
DTSTART:20190310T140500Z
DTEND:20190310T150500Z
LOCATION:Commons Room   (4907 Garrett Rd\, Durham\, NC 27707  )
SUMMARY:Inquirers class
URL:https://eruuf.org/calendar/calendar-view/event/5074-inquirers-class.htm
 l
END:VEVENT
END:VCALENDAR
