BEGIN:VCALENDAR
VERSION:2.0
PRODID:-//https://eruuf.org///NONSGML kigkonsult.se iCalcreator 2.10.15//
METHOD:PUBLISH
BEGIN:VEVENT
UID:20260423T171348UTC-7910vgNODU@https://eruuf.org/
DTSTAMP:20260423T171348Z
DESCRIPTION:The Inquirers Series is offered to welcome and inform visitors 
 and friends about ERUUF. Members are welcome to these classes as well. You
  will converse with ministers\, staff\, and lay leaders as you learn about
  ERUUF’s values\, culture and ministries\, along with basics about Unitari
 an Universalism. Eight topics are covered in one day long session. See Inq
 uirer Series\n You may register for one or more topics during the day\, or
  all eight. Childcare provided if requested. Please register by November 2
 5th. Questions? Contact Rev. Jacqueline Brett\, jbrett@eruuf.org\n https:/
 /eruuf.org/calendar/calendar-view/event/5094-inquirers-retreat-day.html
DTSTART:20181201T140000Z
DTEND:20181201T210000Z
LOCATION:Fellowship Hall   ()
SUMMARY:Inquirers Retreat Day
URL:https://eruuf.org/calendar/calendar-view/event/5094-inquirers-retreat-d
 ay.html
END:VEVENT
END:VCALENDAR
