BEGIN:VCALENDAR
VERSION:2.0
PRODID:-//https://eruuf.org///NONSGML kigkonsult.se iCalcreator 2.10.15//
METHOD:PUBLISH
BEGIN:VEVENT
UID:20260421T110522UTC-7120emFOZ5@https://eruuf.org/
DTSTAMP:20260421T110522Z
DESCRIPTION:Religious Educator\, Dr. Mark Hicks\, will offer a workshop for
  families of color\, multiracial families\, R.E. Teachers\, and members co
 mmitted to anti-racism work. We will explore how race and spirituality are
  interconnected and what this means for families.\nPotluck dinner at 5:30\
 , workshop from 6-7:30pm. Childcare provided.\nPart of the Weekend with Dr
 . Mark Hicks\nView All     Register now https://eruuf.org/calendar/calenda
 r-view/event/5097-race-spiritual-formation-as-a-family-matter-with-dr-mark
 -hicks.html
DTSTART:20181019T213000Z
DTEND:20181019T233000Z
LOCATION:ERUUF Fellowship Hall (4907 Garrett Road)
SUMMARY:Race & Spiritual Formation as a Family Matter with Dr. Mark Hicks
URL:https://eruuf.org/calendar/calendar-view/event/5097-race-spiritual-form
 ation-as-a-family-matter-with-dr-mark-hicks.html
END:VEVENT
END:VCALENDAR
