BEGIN:VCALENDAR
VERSION:2.0
PRODID:-//https://eruuf.org///NONSGML kigkonsult.se iCalcreator 2.10.15//
METHOD:PUBLISH
BEGIN:VEVENT
UID:20260421T001252UTC-8076Ri956Z@https://eruuf.org/
DTSTAMP:20260421T001252Z
DESCRIPTION:\nGATHERING OUR SELVES: Spiritual Resources that Respond to Rac
 ism and Cultural Oppression\nWhen: Saturday\, October 20\, 8:30 am - 4:00 
 pm    Where: Fellowship Hall\nERUUF's Multicultural Team is excited to hos
 t this very special workshop\, developed and led by Dr. Mark A. Hicks\, An
 gus MacLean Professor of Religious Education at Meadville Lombard Theologi
 cal School and Director of The Fahs Collaborative\, A Laboratory for Innov
 ation in Faith Formation.  Gathering Ourselves has been designed for peopl
 e marginalized by racism and oppression\, explicitly\, people across the A
 frican diaspora\, Arabs\, Latinx peoples\, Asians/Pacific Islanders\, Nati
 ve Americans\, multi-racial people\, as well as immigrants and those whose
  native language is a source of oppression.  Lunch included. Childcare ava
 ilable.\nPart of the Weekend with Dr. Mark Hicks\nView All     Register no
 w https://eruuf.org/calendar/calendar-view/event/5098-gathering-ourselves-
 with-mark-hicks-poc-retreat.html
DTSTART:20181020T123000Z
DTEND:20181020T200000Z
LOCATION:Fellowship Hall   ()
SUMMARY:Gathering Ourselves with Mark Hicks (POC Retreat)
URL:https://eruuf.org/calendar/calendar-view/event/5098-gathering-ourselves
 -with-mark-hicks-poc-retreat.html
END:VEVENT
END:VCALENDAR
