BEGIN:VCALENDAR
VERSION:2.0
PRODID:-//https://eruuf.org///NONSGML kigkonsult.se iCalcreator 2.10.15//
METHOD:PUBLISH
BEGIN:VEVENT
UID:20260422T234153UTC-1925MvvZ4T@https://eruuf.org/
DTSTAMP:20260422T234153Z
DESCRIPTION:{article 2086}[introtext] {/article} https://eruuf.org/calendar
 /calendar-view/event/5099-jazz-vespers-a-collaborative-worship-service.htm
 l
DTSTART:20181013T200000Z
DTEND:20181013T210000Z
LOCATION:Sanctuary - ERUUF   (4907 Garrett Road\, Durham\, NC 27707  )
SUMMARY:JAZZ VESPERS -- A Collaborative Worship Service
URL:https://eruuf.org/calendar/calendar-view/event/5099-jazz-vespers-a-coll
 aborative-worship-service.html
END:VEVENT
END:VCALENDAR
