BEGIN:VCALENDAR
VERSION:2.0
PRODID:-//https://eruuf.org///NONSGML kigkonsult.se iCalcreator 2.10.15//
METHOD:PUBLISH
BEGIN:VEVENT
UID:20260423T131807UTC-7057uUTiAF@https://eruuf.org/
DTSTAMP:20260423T131807Z
DESCRIPTION:You are specially invited for an evening of music\, meditation\
 , poetry\, and song\, an opportunity for quiet reflection in the mystery o
 f darkness and light\, a chance to rest in the grace of something larger t
 han ourselves. Reception immediately following the service. \n{article 208
 6}[introtext]{/article} https://eruuf.org/calendar/calendar-view/event/510
 0-holiday-jazz-vespers-a-collaborative-worship-service.html
DTSTART:20181213T000000Z
DTEND:20181213T010000Z
LOCATION:Sanctuary - ERUUF   (4907 Garrett Road\, Durham\, NC 27707  )
SUMMARY:HOLIDAY JAZZ VESPERS -- A Collaborative Worship Service
URL:https://eruuf.org/calendar/calendar-view/event/5100-holiday-jazz-vesper
 s-a-collaborative-worship-service.html
END:VEVENT
END:VCALENDAR
