BEGIN:VCALENDAR
VERSION:2.0
PRODID:-//https://eruuf.org///NONSGML kigkonsult.se iCalcreator 2.10.15//
METHOD:PUBLISH
BEGIN:VEVENT
UID:20260423T051212UTC-0111D0ruuo@https://eruuf.org/
DTSTAMP:20260423T051212Z
DESCRIPTION:Potluck open to all ERUUFians and friends.   We welcome your fa
 vorite dish or help even if you have other plans for dinner.\nFor more inf
 o contact: gerdapress@yahoo.com. Sign up to volunteer or RSVP below or in 
 the Fellowship Hall on Sundays.\n\n\n  https://eruuf.org/calendar/calendar
 -view/event/5101-thanksgiving-dinner.html
DTSTART:20181122T180000Z
DTEND:20181122T200000Z
LOCATION:Fellowship Hall   ()
SUMMARY:Thanksgiving Dinner
URL:https://eruuf.org/calendar/calendar-view/event/5101-thanksgiving-dinner
 .html
END:VEVENT
END:VCALENDAR
