BEGIN:VCALENDAR
VERSION:2.0
PRODID:-//https://eruuf.org///NONSGML kigkonsult.se iCalcreator 2.10.15//
METHOD:PUBLISH
BEGIN:VEVENT
UID:20260424T091655UTC-72219S4BwU@https://eruuf.org/
DTSTAMP:20260424T091655Z
DESCRIPTION:Supper of homemade soups and side dishes provided between Chris
 tmas Eve services. All in the ERUUF community\, plus family and friends\, 
 are invited to participate in our annual Christmas Eve Soup Supper\, takin
 g place between services from 6:00 - 7:00.\n(Please sign up for soup\, bre
 ad or finger food desserts in the Fellowship Hall. Contact Mary Lacombe (m
 clacombe60@gmail.com) for any questions.) https://eruuf.org/calendar/calen
 dar-view/event/5102-christmas-eve-soup-supper.html
DTSTART:20181224T230000Z
DTEND:20181225T000000Z
LOCATION:Fellowship Hall   ()
SUMMARY:Christmas Eve Soup Supper
URL:https://eruuf.org/calendar/calendar-view/event/5102-christmas-eve-soup-
 supper.html
END:VEVENT
END:VCALENDAR
