BEGIN:VCALENDAR
VERSION:2.0
PRODID:-//https://eruuf.org///NONSGML kigkonsult.se iCalcreator 2.10.15//
METHOD:PUBLISH
BEGIN:VEVENT
UID:20260424T071725UTC-82968tPMOX@https://eruuf.org/
DTSTAMP:20260424T071725Z
DESCRIPTION:ERUUF’s Kwanzaa Karamu will serve up traditional\, authentic Af
 rican-American food and lots of joy after the single service at 10:30 on D
 ecember 30. The feast is sponsored by the Multicultural Team.  Last year m
 ore than 300 happy ERUUFians attended.We need you to volunteer bring a des
 sert!  Please sign-up by emailing cantu99797@aol.com or multiculturalteam@
 eruuf.org.  You can bring your dessert to the Fellowship Hall before the s
 ervice or bring it to the Fellowship Hall on Saturday\, Dec 29\, between 9
  am and 1 pm.  Thank you! https://eruuf.org/calendar/calendar-view/event/5
 103-kwanzaa-karamu-feast.html
DTSTART:20181230T163000Z
DTEND:20181230T180000Z
LOCATION:Fellowship Hall   ()
SUMMARY:Kwanzaa Karamu Feast
URL:https://eruuf.org/calendar/calendar-view/event/5103-kwanzaa-karamu-feas
 t.html
END:VEVENT
END:VCALENDAR
