BEGIN:VCALENDAR
VERSION:2.0
PRODID:-//https://eruuf.org///NONSGML kigkonsult.se iCalcreator 2.10.15//
METHOD:PUBLISH
BEGIN:VEVENT
UID:20260424T135020UTC-7697DT1uat@https://eruuf.org/
DTSTAMP:20260424T135020Z
DESCRIPTION:Follow up meeting to 'WHY we do stewardship: an important conve
 rsation.'   Contact Rev. Cayer. https://eruuf.org/calendar/calendar-view/e
 vent/512-stewardship-council.html
DTSTART:20161101T230000Z
DTEND:20161102T010000Z
LOCATION:Room 7 - CARE Building ()
SUMMARY:Stewardship Council
URL:https://eruuf.org/calendar/calendar-view/event/512-stewardship-council.
 html
END:VEVENT
END:VCALENDAR
