BEGIN:VCALENDAR
VERSION:2.0
PRODID:-//https://eruuf.org///NONSGML kigkonsult.se iCalcreator 2.10.15//
METHOD:PUBLISH
BEGIN:VEVENT
UID:20260424T032054UTC-6328zP0zlG@https://eruuf.org/
DTSTAMP:20260424T032054Z
DESCRIPTION:Sponsored by the Parents Group.  Join us in the Commons Room fo
 r an evening of shared games and dinner! Please bring a pizza\, drink\, si
 de dish\, or dessert to share (homemade or takeout). All ages welcome and 
 BYOG (bring your own game) Get your game on\, ERUUF!  Questions? Email Chr
 istine at ckfrost@gmail.com https://eruuf.org/calendar/calendar-view/event
 /5148-family-game-and-pizza-night.html
DTSTART:20180824T220000Z
DTEND:20180825T000000Z
LOCATION:Room 4/5   (4907 Garrett Rd\, Durham\, NC 27707   )
SUMMARY:Family Game and Pizza Night
URL:https://eruuf.org/calendar/calendar-view/event/5148-family-game-and-piz
 za-night.html
END:VEVENT
END:VCALENDAR
