BEGIN:VCALENDAR
VERSION:2.0
PRODID:-//https://eruuf.org///NONSGML kigkonsult.se iCalcreator 2.10.15//
METHOD:PUBLISH
BEGIN:VEVENT
UID:20260424T132043UTC-6718PNw55K@https://eruuf.org/
DTSTAMP:20260424T132043Z
DESCRIPTION:Do you have a New Year’s Resolution to eat better in 2019? Now 
 is your chance to get the support you need to get started! During this two
  hour workshop\, you will be given information about Hungry Harvest and ho
 w you can utilize it to eat more fruits and vegetables in the new year\, p
 lus two worksheets on creating a personalized Well Life Vision and a SMART
  Goal to get you started. Also\, Christine Frost\, CHC and Dr. Jonathan Sh
 eline will talk about the fundamentals of positive habit change and the be
 nefits of eating plant based. You will leave with a clear understanding of
  how to accomplish your goals and access to continued support if you need 
 it. This is also our monthly plant based potluck so bring a dish to share 
 that is vegan and free of processed oils and sugars. Kid friendly! Bring a
  friend! This event is free and open to the public but please RSVP so we k
 now how many to expect.\nPlease RSVP by emailing ckfrost@gmail.com. https:
 //eruuf.org/calendar/calendar-view/event/5155-new-year-s-resolution-worksh
 op-potluck-earth-justice-plant-based-eruufians.html
DTSTART:20190114T223000Z
DTEND:20190115T003000Z
LOCATION:Fellowship Hall   ()
SUMMARY:New Year's Resolution Workshop & Potluck: Earth Justice (Plant Base
 d ERUUFians)
URL:https://eruuf.org/calendar/calendar-view/event/5155-new-year-s-resoluti
 on-workshop-potluck-earth-justice-plant-based-eruufians.html
END:VEVENT
END:VCALENDAR
