BEGIN:VCALENDAR
VERSION:2.0
PRODID:-//https://eruuf.org///NONSGML kigkonsult.se iCalcreator 2.10.15//
METHOD:PUBLISH
BEGIN:VEVENT
UID:20260424T195516UTC-4522CZPU36@https://eruuf.org/
DTSTAMP:20260424T195516Z
DESCRIPTION:Sharing a plant-based meal and information monthly. Contact Chr
 istine Frost https://eruuf.org/calendar/calendar-view/event/5158-earth-jus
 tice-plant-based-eruufians.html
DTSTART:20190408T213000Z
DTEND:20190408T233000Z
LOCATION:Fellowship Hall   ()
SUMMARY:Earth Justice (Plant Based ERUUFians)
URL:https://eruuf.org/calendar/calendar-view/event/5158-earth-justice-plant
 -based-eruufians.html
END:VEVENT
END:VCALENDAR
