BEGIN:VCALENDAR
VERSION:2.0
PRODID:-//https://eruuf.org///NONSGML kigkonsult.se iCalcreator 2.10.15//
METHOD:PUBLISH
BEGIN:VEVENT
UID:20260425T011929UTC-7362hCCsPB@https://eruuf.org/
DTSTAMP:20260425T011929Z
DESCRIPTION:Sharing a plant-based meal and information monthly. Contact Chr
 istine Frost https://eruuf.org/calendar/calendar-view/event/5159-earth-jus
 tice-plant-based-eruufians.html
DTSTART:20190513T213000Z
DTEND:20190513T233000Z
LOCATION:Fellowship Hall   ()
SUMMARY:Earth Justice (Plant Based ERUUFians)
URL:https://eruuf.org/calendar/calendar-view/event/5159-earth-justice-plant
 -based-eruufians.html
END:VEVENT
END:VCALENDAR
