BEGIN:VCALENDAR
VERSION:2.0
PRODID:-//https://eruuf.org///NONSGML kigkonsult.se iCalcreator 2.10.15//
METHOD:PUBLISH
BEGIN:VEVENT
UID:20260423T224556UTC-3678nhUvvu@https://eruuf.org/
DTSTAMP:20260423T224556Z
DESCRIPTION:The ERUUF Clickers group invites families to help stuff teddy b
 ears that the Clickers knitted for the upcoming Child Dedication Ceremony 
 in October. We will help stuff\, tie the ribbon on and perhaps sew them sh
 ut if kids are able. The bears will then be presented at the Dedication Ce
 remony during service.  \nRegistration is required by September 18th for a
 ges 6-12. Please contact ckfrost@gmail.com with any questions. Register yo
 ur child at bit.ly/eruufbears https://eruuf.org/calendar/calendar-view/eve
 nt/5179-stuffed-bear-family-event.html
DTSTART:20180922T133000Z
DTEND:20180922T163000Z
LOCATION:Commons Room   (4907 Garrett Rd\, Durham\, NC 27707  )
SUMMARY:Stuffed bear family event
URL:https://eruuf.org/calendar/calendar-view/event/5179-stuffed-bear-family
 -event.html
END:VEVENT
END:VCALENDAR
