BEGIN:VCALENDAR
VERSION:2.0
PRODID:-//https://eruuf.org///NONSGML kigkonsult.se iCalcreator 2.10.15//
METHOD:PUBLISH
BEGIN:VEVENT
UID:20260424T011929UTC-62266fgTVO@https://eruuf.org/
DTSTAMP:20260424T011929Z
DESCRIPTION:The Planned Giving Task Force invites all persons interested in
  ERUUF's new Planned Giving Program to a presentation/discussion. Learn mo
 re about how easy it is to make a planned gift and give the Task Force fee
 dback about best ways to make your generous gift support ERUUF's mission l
 ong into the future.   https://eruuf.org/calendar/calendar-view/event/5193
 -planned-giving-program-listening-sessions.html
DTSTART:20180819T153000Z
DTEND:20180819T163000Z
LOCATION:Sanctuary - ERUUF   (4907 Garrett Road\, Durham\, NC 27707  )
SUMMARY:Planned Giving Program Listening Sessions
URL:https://eruuf.org/calendar/calendar-view/event/5193-planned-giving-prog
 ram-listening-sessions.html
END:VEVENT
END:VCALENDAR
