BEGIN:VCALENDAR
VERSION:2.0
PRODID:-//https://eruuf.org///NONSGML kigkonsult.se iCalcreator 2.10.15//
METHOD:PUBLISH
BEGIN:VEVENT
UID:20260423T022328UTC-5214siIfIR@https://eruuf.org/
DTSTAMP:20260423T022328Z
DESCRIPTION:Come for a few hours of fun and splashing with fellow ERUUF fam
 ilies. Bring your favorite summer dish or snack to share (6-8 servings) an
 d meet us at Shelter 3. (You can find a map here - https://files.nc.gov/nc
 parks/maps-and-brochures/falls-lake-sandlingbeach.pdf ) Questions? Email C
 hristine at ckfrost@gmail.com https://eruuf.org/calendar/calendar-view/eve
 nt/5223-eruuf-parents-group-beach-day.html
DTSTART:20180728T140000Z
DTEND:20180728T170000Z
LOCATION:Sandling Beach at Falls Lake (14813 Creedmoor Rd\, Wake Forest\, N
 C 27587\, USA)
SUMMARY:ERUUF Parents Group Beach Day
URL:https://eruuf.org/calendar/calendar-view/event/5223-eruuf-parents-group
 -beach-day.html
END:VEVENT
END:VCALENDAR
