BEGIN:VCALENDAR
VERSION:2.0
PRODID:-//https://eruuf.org///NONSGML kigkonsult.se iCalcreator 2.10.15//
METHOD:PUBLISH
BEGIN:VEVENT
UID:20260423T002236UTC-4824DvHWWt@https://eruuf.org/
DTSTAMP:20260423T002236Z
DESCRIPTION:Quarterly meeting for the Infuusions Giving Circle.  Our Novemb
 er meeting is a funding decision meeting.  Newcomers are welcome to come a
 nd find out more.  Infuusions is looking for more members.  Contact Peter 
 Romeyn https://eruuf.org/calendar/calendar-view/event/5225-infuusions-givi
 ng-circle.html
DTSTART:20181104T180000Z
DTEND:20181104T200000Z
LOCATION:Room 1 - CARE Building ()
SUMMARY:InfUUsions Giving Circle
URL:https://eruuf.org/calendar/calendar-view/event/5225-infuusions-giving-c
 ircle.html
END:VEVENT
END:VCALENDAR
