BEGIN:VCALENDAR
VERSION:2.0
PRODID:-//https://eruuf.org///NONSGML kigkonsult.se iCalcreator 2.10.15//
METHOD:PUBLISH
BEGIN:VEVENT
UID:20260423T051916UTC-6107OMNvFI@https://eruuf.org/
DTSTAMP:20260423T051916Z
DESCRIPTION:The Inquirers Series is offered to welcome and inform visitors 
 and friends about ERUUF. Members are welcome to these classes as well. You
  will converse with ministers\, staff\, and lay leaders as you learn about
  ERUUF’s values\, culture and ministries\, along with basics about Unitari
 an Universalism. Eight topics are covered\, one per session.  See Inquirer
 s Series\nRegistration is required for Wednesday evening sessions 1-8. Ple
 ase register in advance no later than Saturday\, September 1 HERE.  MINIMU
 M number of class participants: 6\nSession 8 - Membership 101 & Congregati
 onal Life\n https://eruuf.org/calendar/calendar-view/event/5233-wednesday-
 inquirers-class.html
DTSTART:20181024T230000Z
DTEND:20181025T000000Z
LOCATION:Commons Room   (4907 Garrett Rd\, Durham\, NC 27707  )
SUMMARY:Wednesday Inquirers Class
URL:https://eruuf.org/calendar/calendar-view/event/5233-wednesday-inquirers
 -class.html
END:VEVENT
END:VCALENDAR
