BEGIN:VCALENDAR
VERSION:2.0
PRODID:-//https://eruuf.org///NONSGML kigkonsult.se iCalcreator 2.10.15//
METHOD:PUBLISH
BEGIN:VEVENT
UID:20260422T204105UTC-52095jEh0u@https://eruuf.org/
DTSTAMP:20260422T204105Z
DESCRIPTION:We are excited to announce that the Fall camping trip will be a
 t Kerr Lake!  For more information please email Mel Downey-Piper at mel.do
 wneypiper@gmail.com or register your family at https://tinyurl.com/eruuf-f
 all-2018 Password: ERUUF https://eruuf.org/calendar/calendar-view/event/52
 34-parent-s-group-fall-camping-trip.html
DTSTART:20180901T130000Z
DTEND:20180903T200000Z
LOCATION:Satterwhite Point\, Kerr Lake State Recreation Area (Satterwhite P
 oint Rd\, Henderson\, NC 27537\, USA)
SUMMARY:PARENT'S GROUP FALL CAMPING TRIP
URL:https://eruuf.org/calendar/calendar-view/event/5234-parent-s-group-fall
 -camping-trip.html
END:VEVENT
END:VCALENDAR
