BEGIN:VCALENDAR
VERSION:2.0
PRODID:-//https://eruuf.org///NONSGML kigkonsult.se iCalcreator 2.10.15//
METHOD:PUBLISH
BEGIN:VEVENT
UID:20260425T023713UTC-7886Iw7uit@https://eruuf.org/
DTSTAMP:20260425T023713Z
DESCRIPTION:Show up early for a good seat\; offer to help with the event: 9
 0 minutes of voter education from the non-profit\, non-partisan YouCanVote
  leadership--a grassroots movement to educate voters\, register voters and
  ensure every potential voter gets their vote counted.\n\nUpdate What’s on
  the Ballot: Amendments + how we can communicate these to voters\, how we 
 share who's running with voters\n\nUpdate to maps\, districts\n\n\n \nEarl
 y Voting Updates\, advocacy needs\n\nOffsetting Voting Purges: Our new rec
 ommendation\n\n\nThe new conversation with voters\n\n\nGet Out The Vote Pl
 ans\n\n\nRSVP Here (or just show up!).   Contact Emiily Cox https://eruuf.
 org/calendar/calendar-view/event/5303-nc-midterm-election-update-with-youc
 anvote.html
DTSTART:20180829T223000Z
DTEND:20180830T000000Z
LOCATION:ERUUF Campus   (4907 Garrett Rd\, Durham\, NC 27707    )
SUMMARY:NC Midterm Election Update with YouCanVote
URL:https://eruuf.org/calendar/calendar-view/event/5303-nc-midterm-election
 -update-with-youcanvote.html
END:VEVENT
END:VCALENDAR
