BEGIN:VCALENDAR
VERSION:2.0
PRODID:-//https://eruuf.org///NONSGML kigkonsult.se iCalcreator 2.10.15//
METHOD:PUBLISH
BEGIN:VEVENT
UID:20260422T234123UTC-2315hkcsrE@https://eruuf.org/
DTSTAMP:20260422T234123Z
DESCRIPTION:Orientation for the Neighboring Faiths RE Program.\nFor more in
 formation contact:  bsimmons@eruuf.org https://eruuf.org/calendar/calendar
 -view/event/5304-neighboring-faiths-orientation.html
DTSTART:20180916T163000Z
DTEND:20180916T173000Z
LOCATION:ERUUF Commons Room (4907 Garrett Road)
SUMMARY:Neighboring Faiths Orientation
URL:https://eruuf.org/calendar/calendar-view/event/5304-neighboring-faiths-
 orientation.html
END:VEVENT
END:VCALENDAR
