BEGIN:VCALENDAR
VERSION:2.0
PRODID:-//https://eruuf.org///NONSGML kigkonsult.se iCalcreator 2.10.15//
METHOD:PUBLISH
BEGIN:VEVENT
UID:20260421T083836UTC-30273fpldB@https://eruuf.org/
DTSTAMP:20260421T083836Z
DESCRIPTION:Please contact Paul Baerman for addititonal info for this event
 . pb@paulbaerman.net https://eruuf.org/calendar/calendar-view/event/5305-p
 ageant-rehearsal.html
DTSTART:20181216T180009Z
DTEND:20181216T220009Z
LOCATION:Sanctuary - ERUUF   (4907 Garrett Road\, Durham\, NC 27707  )
SUMMARY:Pageant Rehearsal
URL:https://eruuf.org/calendar/calendar-view/event/5305-pageant-rehearsal.h
 tml
END:VEVENT
END:VCALENDAR
