BEGIN:VCALENDAR
VERSION:2.0
PRODID:-//https://eruuf.org///NONSGML kigkonsult.se iCalcreator 2.10.15//
METHOD:PUBLISH
BEGIN:VEVENT
UID:20260423T183636UTC-42301hXJ9J@https://eruuf.org/
DTSTAMP:20260423T183636Z
DESCRIPTION:Monthly meeting of the Membership Council.  Contact Chrissey Tr
 ainello https://eruuf.org/calendar/calendar-view/event/532-membership-coun
 cil-meeting.html
DTSTART:20161011T224500Z
DTEND:20161012T004500Z
LOCATION:Room 15 - CARE Building ()
SUMMARY:Membership Council meeting
URL:https://eruuf.org/calendar/calendar-view/event/532-membership-council-m
 eeting.html
END:VEVENT
END:VCALENDAR
