BEGIN:VCALENDAR
VERSION:2.0
PRODID:-//https://eruuf.org///NONSGML kigkonsult.se iCalcreator 2.10.15//
METHOD:PUBLISH
BEGIN:VEVENT
UID:20260424T105101UTC-2299RFA0HS@https://eruuf.org/
DTSTAMP:20260424T105101Z
DESCRIPTION:Service Saturdays will occur thisyear on the second Saturday of
  the month and will provide on-going oppportunities for ERUUFians to volun
 teer at several non-profit organizations whose work is in alignment with E
 RUUF's mission to transform lives.  Stay tuned for more information.  Cont
 act jacqueline Brett\, jbrett@eruuf.org https://eruuf.org/calendar/calenda
 r-view/event/533-service-saturday.html
DTSTART:20161008T123000Z
DTEND:20161008T160000Z
LOCATION:Fellowship Hall   ()
SUMMARY:Service Saturday
URL:https://eruuf.org/calendar/calendar-view/event/533-service-saturday.htm
 l
END:VEVENT
END:VCALENDAR
