BEGIN:VCALENDAR
VERSION:2.0
PRODID:-//https://eruuf.org///NONSGML kigkonsult.se iCalcreator 2.10.15//
METHOD:PUBLISH
BEGIN:VEVENT
UID:20260424T083631UTC-4759uiAXfu@https://eruuf.org/
DTSTAMP:20260424T083631Z
DESCRIPTION:An Evening of Song in Portuguese and Spanish\n\n \n \n \n \n \n
  \nCaitlin Felsman\, Mezzo-Soprano and Chelsea Whitaker\, Pianist\nA progr
 am of art songs celebrating the melodies and rhythms of Latin America\, wi
 th rarely performed works from Brazil and Cuba\nSuggested donation: $15/Ad
 ults\; $10 Students & Seniors\nA portion of donations to benefit programs 
 supported by the Refugee and Immigrant Action Group of the ERUUFJustice Mi
 nistry Council. https://eruuf.org/calendar/calendar-view/event/5368-cancio
 n-cancao-concert.html
DTSTART:20180824T233000Z
DTEND:20180825T010000Z
LOCATION:Sanctuary - ERUUF   (4907 Garrett Road\, Durham\, NC 27707  )
SUMMARY:CANCIÓN/CANÇÃO Concert
URL:https://eruuf.org/calendar/calendar-view/event/5368-cancion-cancao-conc
 ert.html
END:VEVENT
END:VCALENDAR
