BEGIN:VCALENDAR
VERSION:2.0
PRODID:-//https://eruuf.org///NONSGML kigkonsult.se iCalcreator 2.10.15//
METHOD:PUBLISH
BEGIN:VEVENT
UID:20260423T160033UTC-5479jNerlo@https://eruuf.org/
DTSTAMP:20260423T160033Z
DESCRIPTION:Members will vote to elect new officers\, vote for the 2018-19 
 budget\, hear updates on our finances and more. Please see the full meetin
 g packet available on our website . Everyone is welcome to attend\, althou
 gh only members may vote. The Board will provide snacks in the Fellowship 
 Hall prior to the meeting for those who plan to attend\, and childcare wil
 l be provided. Questions? Contact board@eruuf.org https://eruuf.org/calend
 ar/calendar-view/event/54-annual-business-meeting.html
DTSTART:20180603T160000Z
DTEND:20180603T180000Z
LOCATION:Sanctuary - ERUUF   (4907 Garrett Road\, Durham\, NC 27707  )
SUMMARY:Annual Business Meeting
URL:https://eruuf.org/calendar/calendar-view/event/54-annual-business-meeti
 ng.html
END:VEVENT
END:VCALENDAR
