BEGIN:VCALENDAR
VERSION:2.0
PRODID:-//https://eruuf.org///NONSGML kigkonsult.se iCalcreator 2.10.15//
METHOD:PUBLISH
BEGIN:VEVENT
UID:20260420T130312UTC-6377M10rgK@https://eruuf.org/
DTSTAMP:20260420T130312Z
DESCRIPTION:Designed for people participating in Companions Network and/or 
 teaching RE.  Led by Rev. Xolani Kacela https://eruuf.org/calendar/calenda
 r-view/event/541-deep-listening-class.html
DTSTART:20161004T220000Z
DTEND:20161005T010000Z
LOCATION:Commons Room   (4907 Garrett Rd\, Durham\, NC 27707  )
SUMMARY:Deep Listening class
URL:https://eruuf.org/calendar/calendar-view/event/541-deep-listening-class
 .html
END:VEVENT
END:VCALENDAR
