BEGIN:VCALENDAR
VERSION:2.0
PRODID:-//https://eruuf.org///NONSGML kigkonsult.se iCalcreator 2.10.15//
METHOD:PUBLISH
BEGIN:VEVENT
UID:20260423T201552UTC-6237zPJ0Kv@https://eruuf.org/
DTSTAMP:20260423T201552Z
DESCRIPTION:Adults over 18 are invited join Natalie Boyden\, Mel Downey-Pip
 er\, Shawn Trimble and Eric Hodges this fall to explore sexuality issues f
 or adults of all ages. This curriculum uses values\, communication skills 
 and spirituality to build understanding of healthy sexual relationships\, 
 affirms diversity and helps participants accept and affirm their own sexua
 lity throughout their lives. \nA 10 class series\, requires registration h
 ere. https://eruuf.org/calendar/calendar-view/event/5438-adult-our-whole-l
 ives-owl.html
DTSTART:20180930T173000Z
DTEND:20180930T183000Z
LOCATION:Room 3 - CARE Building ()
SUMMARY:Adult Our Whole Lives (OWL)
URL:https://eruuf.org/calendar/calendar-view/event/5438-adult-our-whole-liv
 es-owl.html
END:VEVENT
END:VCALENDAR
