BEGIN:VCALENDAR
VERSION:2.0
PRODID:-//https://eruuf.org///NONSGML kigkonsult.se iCalcreator 2.10.15//
METHOD:PUBLISH
BEGIN:VEVENT
UID:20260421T070822UTC-9598fLeAwS@https://eruuf.org/
DTSTAMP:20260421T070822Z
DESCRIPTION: https://eruuf.org/calendar/calendar-view/event/5452-parenting-
 teens.html
DTSTART:20190127T151500Z
DTEND:20190127T163000Z
LOCATION:Library - CARE Building ()
SUMMARY:Parenting Teens
URL:https://eruuf.org/calendar/calendar-view/event/5452-parenting-teens.htm
 l
END:VEVENT
END:VCALENDAR
