BEGIN:VCALENDAR
VERSION:2.0
PRODID:-//https://eruuf.org///NONSGML kigkonsult.se iCalcreator 2.10.15//
METHOD:PUBLISH
BEGIN:VEVENT
UID:20260421T032234UTC-9081UG6M7z@https://eruuf.org/
DTSTAMP:20260421T032234Z
DESCRIPTION:Please contact Paul Baerman for additional info for this event.
  pb@paulbaerman.net https://eruuf.org/calendar/calendar-view/event/5462-pa
 geant-dress-rehearsal-key-speaker-actor.html
DTSTART:20181223T180000Z
DTEND:20181223T200000Z
LOCATION:Sanctuary - ERUUF   (4907 Garrett Road\, Durham\, NC 27707  )
SUMMARY:Pageant Dress Rehearsal (Key Speaker/Actor)
URL:https://eruuf.org/calendar/calendar-view/event/5462-pageant-dress-rehea
 rsal-key-speaker-actor.html
END:VEVENT
END:VCALENDAR
