BEGIN:VCALENDAR
VERSION:2.0
PRODID:-//https://eruuf.org///NONSGML kigkonsult.se iCalcreator 2.10.15//
METHOD:PUBLISH
BEGIN:VEVENT
UID:20260419T235845UTC-8523NziuPm@https://eruuf.org/
DTSTAMP:20260419T235845Z
DESCRIPTION:Wednesdays September 19\, 26Facilitator: Juanita Johnson\, M.A.
 \, C.T.Legacy Letter - Writing What You Believe for Those You Love  With j
 oy and insight Juanita will offer tools\, guidelines\, and examples on how
  to write a Legacy Letter. Writing a Legacy Letter is a perfect way to sha
 re your most precious possessions: your values\, wisdom\, and love with th
 e people who matter to you most.   Bring pen and paper. Wednesdays October
  3\, 10\, 17\, 26Facilitators: Rev. Stacy Grove\, Dr. Mike McLeodGoing Dee
 per with Sage-ingWe continue our exploration of what it means to be more “
 conscious”\, awake in the last half of our lives. What part of our life is
  “UNLIVED”? What spiritual practices support our meaning and purpose at th
 is time of our life? We will explore the concept of “baggage” and “roles” 
 with a life review and harvest our wisdom\, through self-reflective journa
 ling\, sharing in dyads\, and harvesting in large group. Please register H
 ERE to help us plan set up and materials for each session https://eruuf.or
 g/calendar/calendar-view/event/5466-wednesday-conversations-on-sage-ing.ht
 ml
DTSTART:20180919T160000Z
DTEND:20180919T180000Z
LOCATION:Fellowship Hall   ()
SUMMARY:Wednesday Conversations on Sage-ing
URL:https://eruuf.org/calendar/calendar-view/event/5466-wednesday-conversat
 ions-on-sage-ing.html
END:VEVENT
END:VCALENDAR
