BEGIN:VCALENDAR
VERSION:2.0
PRODID:-//https://eruuf.org///NONSGML kigkonsult.se iCalcreator 2.10.15//
METHOD:PUBLISH
BEGIN:VEVENT
UID:20260424T001024UTC-5772SvF9iS@https://eruuf.org/
DTSTAMP:20260424T001024Z
DESCRIPTION:Wednesdays October 3\, 10\, 17\, 26Facilitators: Rev. Stacy Gro
 ve\, Dr. Mike McLeodGoing Deeper with Sage-ingWe continue our exploration 
 of what it means to be more “conscious”\, awake in the last half of our li
 ves. What part of our life is “UNLIVED”? What spiritual practices support 
 our meaning and purpose at this time of our life? We will explore the conc
 ept of “baggage” and “roles” with a life review and harvest our wisdom\, t
 hrough self-reflective journaling\, sharing in dyads\, and harvesting in l
 arge group. Please register HERE to help us plan set up and materials for 
 each session https://eruuf.org/calendar/calendar-view/event/5469-wednesday
 -conversations-on-sage-ing.html
DTSTART:20181010T160000Z
DTEND:20181010T180000Z
LOCATION:Fellowship Hall   ()
SUMMARY:Wednesday Conversations on Sage-ing
URL:https://eruuf.org/calendar/calendar-view/event/5469-wednesday-conversat
 ions-on-sage-ing.html
END:VEVENT
END:VCALENDAR
