BEGIN:VCALENDAR
VERSION:2.0
PRODID:-//https://eruuf.org///NONSGML kigkonsult.se iCalcreator 2.10.15//
METHOD:PUBLISH
BEGIN:VEVENT
UID:20260421T113312UTC-5819Fd5zzh@https://eruuf.org/
DTSTAMP:20260421T113312Z
DESCRIPTION: https://eruuf.org/calendar/calendar-view/event/5473-8th-grade-
 owl-orientation.html
DTSTART:20180909T163000Z
DTEND:20180909T190000Z
LOCATION:Room 3 - CARE Building ()
SUMMARY:8th Grade OWL Orientation
URL:https://eruuf.org/calendar/calendar-view/event/5473-8th-grade-owl-orien
 tation.html
END:VEVENT
END:VCALENDAR
