BEGIN:VCALENDAR
VERSION:2.0
PRODID:-//https://eruuf.org///NONSGML kigkonsult.se iCalcreator 2.10.15//
METHOD:PUBLISH
BEGIN:VEVENT
UID:20260421T113242UTC-6081cPSU59@https://eruuf.org/
DTSTAMP:20260421T113242Z
DESCRIPTION: https://eruuf.org/calendar/calendar-view/event/5474-5th-grade-
 owl-orientation.html
DTSTART:20180909T173000Z
DTEND:20180909T193000Z
LOCATION:Room 4/5   (4907 Garrett Rd\, Durham\, NC 27707   )
SUMMARY:5th Grade OWL Orientation
URL:https://eruuf.org/calendar/calendar-view/event/5474-5th-grade-owl-orien
 tation.html
END:VEVENT
END:VCALENDAR
