BEGIN:VCALENDAR
VERSION:2.0
PRODID:-//https://eruuf.org///NONSGML kigkonsult.se iCalcreator 2.10.15//
METHOD:PUBLISH
BEGIN:VEVENT
UID:20260424T130441UTC-83459ogfRX@https://eruuf.org/
DTSTAMP:20260424T130441Z
DESCRIPTION:Please contact Paul Baerman for addititonal info for this event
 . pb@paulbaerman.net https://eruuf.org/calendar/calendar-view/event/5475-p
 ageant-dress-rehearsal.html
DTSTART:20181224T203000Z
DTEND:20181224T214000Z
LOCATION:Sanctuary - ERUUF   (4907 Garrett Road\, Durham\, NC 27707  )
SUMMARY:Pageant Dress Rehearsal
URL:https://eruuf.org/calendar/calendar-view/event/5475-pageant-dress-rehea
 rsal.html
END:VEVENT
END:VCALENDAR
