BEGIN:VCALENDAR
VERSION:2.0
PRODID:-//https://eruuf.org///NONSGML kigkonsult.se iCalcreator 2.10.15//
METHOD:PUBLISH
BEGIN:VEVENT
UID:20260421T190240UTC-2762M0adaG@https://eruuf.org/
DTSTAMP:20260421T190240Z
DESCRIPTION:UU History 101 is a 7-session introduction to concepts and peop
 le from our UU history\, approached from the starting point of compelling 
 stories and personalities. We will explore the questions those people face
 d\, and make connections with our own lives and the world around us today.
  We will also learn about the history of ERUUF during this class. We'll me
 et each Sunday from September 23 - November 4. \nREGISTER https://eruuf.or
 g/calendar/calendar-view/event/5481-uu-history-101.html
DTSTART:20181014T141500Z
DTEND:20181014T150000Z
LOCATION:Room 4/5   (4907 Garrett Rd\, Durham\, NC 27707   )
SUMMARY:UU History 101
URL:https://eruuf.org/calendar/calendar-view/event/5481-uu-history-101.html
END:VEVENT
END:VCALENDAR
