BEGIN:VCALENDAR
VERSION:2.0
PRODID:-//https://eruuf.org///NONSGML kigkonsult.se iCalcreator 2.10.15//
METHOD:PUBLISH
BEGIN:VEVENT
UID:20260423T051846UTC-6146HUMsEh@https://eruuf.org/
DTSTAMP:20260423T051846Z
DESCRIPTION:Meeting of the Board of the Eno River Fellowship Foundation.  C
 ontact Doug Rhodes. https://eruuf.org/calendar/calendar-view/event/549-eno
 -river-fellowship-foundation.html
DTSTART:20160928T230000Z
DTEND:20160929T003000Z
LOCATION:Room 7 - CARE Building ()
SUMMARY:Eno River Fellowship Foundation
URL:https://eruuf.org/calendar/calendar-view/event/549-eno-river-fellowship
 -foundation.html
END:VEVENT
END:VCALENDAR
