BEGIN:VCALENDAR
VERSION:2.0
PRODID:-//https://eruuf.org///NONSGML kigkonsult.se iCalcreator 2.10.15//
METHOD:PUBLISH
BEGIN:VEVENT
UID:20260423T095230UTC-1063vUgnKA@https://eruuf.org/
DTSTAMP:20260423T095230Z
DESCRIPTION:Listening Circles will have a focus on Black Lives Matter and t
 he recent shootings of black men by police. A safe place to talk out your 
 emotions\, reactions and concerns.  Led by the Multicultural Team\, multic
 ulturalteam@eruuf.org https://eruuf.org/calendar/calendar-view/event/551-m
 ulticultural-team-listening-circles.html
DTSTART:20160925T170000Z
DTEND:20160925T183000Z
LOCATION:Sanctuary - ERUUF   (4907 Garrett Road\, Durham\, NC 27707  )
SUMMARY:Multicultural Team Listening Circles
URL:https://eruuf.org/calendar/calendar-view/event/551-multicultural-team-l
 istening-circles.html
END:VEVENT
END:VCALENDAR
