BEGIN:VCALENDAR
VERSION:2.0
PRODID:-//https://eruuf.org///NONSGML kigkonsult.se iCalcreator 2.10.15//
METHOD:PUBLISH
BEGIN:VEVENT
UID:20260422T054530UTC-26066tREPC@https://eruuf.org/
DTSTAMP:20260422T054530Z
DESCRIPTION:Team meeting for the Youth Ministry.  For more information cont
 act Allison Mahaley\, amahaley@eruuf.org https://eruuf.org/calendar/calend
 ar-view/event/5545-youth-ministry.html
DTSTART:20181018T223000Z
DTEND:20181019T010000Z
LOCATION:Room 1 - CARE Building ()
SUMMARY:Youth Ministry
URL:https://eruuf.org/calendar/calendar-view/event/5545-youth-ministry.html
END:VEVENT
END:VCALENDAR
