BEGIN:VCALENDAR
VERSION:2.0
PRODID:-//https://eruuf.org///NONSGML kigkonsult.se iCalcreator 2.10.15//
METHOD:PUBLISH
BEGIN:VEVENT
UID:20260421T023753UTC-82398i1cJO@https://eruuf.org/
DTSTAMP:20260421T023753Z
DESCRIPTION:Team meeting for the Youth Ministry.  For more information cont
 act Allison Mahaley\, amahaley@eruuf.org https://eruuf.org/calendar/calend
 ar-view/event/5546-youth-ministry.html
DTSTART:20181115T233000Z
DTEND:20181116T020000Z
LOCATION:Room 1 - CARE Building ()
SUMMARY:Youth Ministry
URL:https://eruuf.org/calendar/calendar-view/event/5546-youth-ministry.html
END:VEVENT
END:VCALENDAR
