BEGIN:VCALENDAR
VERSION:2.0
PRODID:-//https://eruuf.org///NONSGML kigkonsult.se iCalcreator 2.10.15//
METHOD:PUBLISH
BEGIN:VEVENT
UID:20260424T012825UTC-2036xilRRw@https://eruuf.org/
DTSTAMP:20260424T012825Z
DESCRIPTION:Team meeting for the Youth Ministry.  For more information cont
 act Allison Mahaley\, amahaley@eruuf.org https://eruuf.org/calendar/calend
 ar-view/event/5549-youth-ministry.html
DTSTART:20190221T233000Z
DTEND:20190222T020000Z
LOCATION:Room 1 - CARE Building ()
SUMMARY:Youth Ministry
URL:https://eruuf.org/calendar/calendar-view/event/5549-youth-ministry.html
END:VEVENT
END:VCALENDAR
